BEGIN:VCALENDAR
VERSION:2.0
PRODID:-//ChamberMaster//Event Calendar 2.0//EN
METHOD:PUBLISH
X-PUBLISHED-TTL:P3D
REFRESH-INTERVAL:P3D
CALSCALE:GREGORIAN
BEGIN:VEVENT
DTSTART:20161119T133000Z
DTEND:20161119T190000Z
X-MICROSOFT-CDO-ALLDAYEVENT:FALSE
SUMMARY:An Appraisal and Buying Event
DESCRIPTION:Bring your jewelry\, watches\, coins\, diamonds\, gold and silver for professional appraisal. If you are pleased with the appraisal and wish to sell your item\, you wil be paid you on the spot (Immediate liquidation)! There is no charge for appraisals. A percentage of sales will benefit the Waterville Historical Society.\n\nSaturday\, November 19\, 2016\n\n8:30 AM-2 PM\n\n\n\nPLEASE NOTE:\n\nGuests selling valuables will need a photo ID and their thumbprint will be taken. All sales are final.
X-ALT-DESC;FMTTYPE=text/html:Bring your jewelry\, watches\, coins\, diamonds\, gold and silver for professional appraisal. If you are pleased with the appraisal and wish to sell your item\, you wil be paid you on the spot (Immediate liquidation)! <strong>There is&nbsp\;no charge for appraisals</strong>. A percentage of sales will benefit the <strong>Waterville Historical Society</strong>.<br />\n<strong>Saturday\, November 19\, 2016<br />\n8:30 AM-2 PM</strong><br />\n<br />\n<u><strong>PLEASE NOTE:</strong></u><br />\nGuests selling valuables will need a photo ID and their thumbprint will be taken. All sales are final.
LOCATION:Wakeman Hall\, 401 Farnsworth Road (Handicap accessible facility) Waterville\, OH 43566
UID:e.1508.958
SEQUENCE:3
DTSTAMP:20260423T203436Z
URL:https://business.watervillechamber.com/events/details/an-appraisal-and-buying-event-958
END:VEVENT

END:VCALENDAR
