BEGIN:VCALENDAR
VERSION:2.0
PRODID:-//ChamberMaster//Event Calendar 2.0//EN
METHOD:PUBLISH
X-PUBLISHED-TTL:P3D
REFRESH-INTERVAL:P3D
CALSCALE:GREGORIAN
BEGIN:VEVENT
DTSTART:20240507T120000Z
DTEND:20240507T130000Z
X-MICROSOFT-CDO-ALLDAYEVENT:FALSE
SUMMARY:BOARD OF DIRECTOR'S MEETING
DESCRIPTION:BOARD OF DIRECTOR'S MONTHLY MEETING
X-ALT-DESC;FMTTYPE=text/html:BOARD OF DIRECTOR&#39\;S MONTHLY MEETING
LOCATION:WACC MEETING ROOM
UID:e.1508.1296
SEQUENCE:3
DTSTAMP:20260424T013107Z
URL:https://business.watervillechamber.com/events/details/empty-title-05-07-2024-1296
END:VEVENT

END:VCALENDAR
