BEGIN:VCALENDAR
VERSION:2.0
PRODID:-//ChamberMaster//Event Calendar 2.0//EN
METHOD:PUBLISH
X-PUBLISHED-TTL:P3D
REFRESH-INTERVAL:P3D
CALSCALE:GREGORIAN
BEGIN:VEVENT
DTSTART:20161129T050000Z
DTEND:20161130T045500Z
X-MICROSOFT-CDO-ALLDAYEVENT:FALSE
SUMMARY:#GivingTuesdayNWO
DESCRIPTION:#GivingTuesdayNWO is a national day of giving at the start of the holiday season that celebrates and encourages charitable activities that support nonprofit organizations. The Toledo Community Foundation and The Blade have partnered to support local nonprofits in this effort by promoting the Waterville Historical Society and encouraging donations through a matching grant opportunity.\n\n\n\nGo online to watervillehistory.org on Tuesday\, November 29\, 2016 to donate this year. This is a one day only national event! Checks may also be written but must be dated for November 29\, 2016 and received on or before that date to: Waterville Historical Society\, P.O. Box 263\, Waterville\, OH  43566.
X-ALT-DESC;FMTTYPE=text/html:<span style="color:#FF0000"><span style="font-size:14px"><strong>#GivingTuesdayNWO</strong></span></span> is a national day of giving at the start of the holiday season that celebrates and encourages charitable activities that support nonprofit organizations. The Toledo Community Foundation and <em>The Blade</em> have partnered to support local nonprofits in this effort by <strong><span style="color:#FF0000">promoting the <span style="font-size:14px">Waterville Historical Society</span></span></strong> and encouraging donations through a matching grant opportunity.<br />\n<br />\n<span style="font-size:14px">Go online to<strong> <span style="color:#000080">watervillehistory.org</span></strong> on <strong><span style="color:#FF0000">Tuesday\, November 29\, 2016 to donate</span></strong> this year. <strong>This is a one day only national event!</strong> <span style="color:#FF0000">Checks may also be written but must be dated for</span>&nbsp\;</span><strong><span style="color:rgb(255\, 0\, 0)">November 29\, 2016</span> and received on or before that date to: Waterville Historical Society\, P.O. Box 263\, Waterville\, OH &nbsp\;43566.</strong>
LOCATION:Website: www.watervillehistory.org OR Checks may be made out to: Waterville Historical Society\, P.O. Box 263\, Waterville\, OH 43566
UID:e.1508.959
SEQUENCE:3
DTSTAMP:20260420T071852Z
URL:https://business.watervillechamber.com/events/details/givingtuesdaynwo-959
END:VEVENT

END:VCALENDAR
