BEGIN:VCALENDAR
VERSION:2.0
PRODID:-//ChamberMaster//Event Calendar 2.0//EN
METHOD:PUBLISH
X-PUBLISHED-TTL:P3D
REFRESH-INTERVAL:P3D
CALSCALE:GREGORIAN
BEGIN:VEVENT
DTSTART:20170603T210000Z
DTEND:20170603T230000Z
X-MICROSOFT-CDO-ALLDAYEVENT:FALSE
SUMMARY:Noisy Neighbors Concert
DESCRIPTION:Join us for an outdoor concert in our amphitheater featuring "Noisy Neighbors!"
X-ALT-DESC;FMTTYPE=text/html:Join us for an outdoor concert in our amphitheater featuring &quot\;Noisy Neighbors!&quot\;
LOCATION:The Shops at Fallen Timbers
UID:e.1508.963
SEQUENCE:3
DTSTAMP:20260422T073055Z
URL:https://business.watervillechamber.com/events/details/noisy-neighbors-concert-963
END:VEVENT

END:VCALENDAR
