BEGIN:VCALENDAR
VERSION:2.0
PRODID:-//ChamberMaster//Event Calendar 2.0//EN
METHOD:PUBLISH
X-PUBLISHED-TTL:P3D
REFRESH-INTERVAL:P3D
CALSCALE:GREGORIAN
BEGIN:VEVENT
DTSTART:20200724T113000Z
DTEND:20200724T190000Z
X-MICROSOFT-CDO-ALLDAYEVENT:FALSE
SUMMARY:Waterville Area Chamber of Commerce Golf Outing
DESCRIPTION:Waterville Area Chamber of Commerce and Yark Auto Whitehouse\n\nInvite you to the Annual Golf Scramble
X-ALT-DESC;FMTTYPE=text/html:<span style="font-size:26px\;">Waterville Area Chamber of Commerce and Yark Auto Whitehouse<br />\nInvite you to the Annual Golf Scramble</span>
LOCATION:Toledo Country Club 3949 River Rd Toledo\, OH 4614
UID:e.1508.1064
SEQUENCE:3
DTSTAMP:20260423T173127Z
URL:https://business.watervillechamber.com/events/details/waterville-area-chamber-of-commerce-golf-outing-1064
END:VEVENT

END:VCALENDAR
